BEGIN:VCALENDAR
VERSION:2.0
PRODID:-//Ballaarat Mechanics&#039; Institute - ECPv6.15.20//NONSGML v1.0//EN
CALSCALE:GREGORIAN
METHOD:PUBLISH
X-WR-CALNAME:Ballaarat Mechanics&#039; Institute
X-ORIGINAL-URL:https://ballaratmi.org.au
X-WR-CALDESC:Events for Ballaarat Mechanics&#039; Institute
REFRESH-INTERVAL;VALUE=DURATION:PT1H
X-Robots-Tag:noindex
X-PUBLISHED-TTL:PT1H
BEGIN:VTIMEZONE
TZID:Australia/Melbourne
BEGIN:STANDARD
TZOFFSETFROM:+1100
TZOFFSETTO:+1000
TZNAME:AEST
DTSTART:20200404T160000
END:STANDARD
BEGIN:DAYLIGHT
TZOFFSETFROM:+1000
TZOFFSETTO:+1100
TZNAME:AEDT
DTSTART:20201003T160000
END:DAYLIGHT
BEGIN:STANDARD
TZOFFSETFROM:+1100
TZOFFSETTO:+1000
TZNAME:AEST
DTSTART:20210403T160000
END:STANDARD
BEGIN:DAYLIGHT
TZOFFSETFROM:+1000
TZOFFSETTO:+1100
TZNAME:AEDT
DTSTART:20211002T160000
END:DAYLIGHT
BEGIN:STANDARD
TZOFFSETFROM:+1100
TZOFFSETTO:+1000
TZNAME:AEST
DTSTART:20220402T160000
END:STANDARD
BEGIN:DAYLIGHT
TZOFFSETFROM:+1000
TZOFFSETTO:+1100
TZNAME:AEDT
DTSTART:20221001T160000
END:DAYLIGHT
END:VTIMEZONE
BEGIN:VEVENT
DTSTART;TZID=Australia/Melbourne:20210328T150000
DTEND;TZID=Australia/Melbourne:20210328T170000
DTSTAMP:20260421T213623
CREATED:20210308T064055Z
LAST-MODIFIED:20210902T231821Z
UID:2365-1616943600-1616950800@ballaratmi.org.au
SUMMARY:Keep the Circle Unbroken - Ballarat
DESCRIPTION:Image: Courtesy Paul Lambeth 								\n				\n									The Tour (by day) A colourful history of the Ballaarat Mechanics’ Institute and it’s people. Tuesday’s at 2pm By appointment only\, (to organise a volunteer guide we require 24hrs notice). Please complete the on-line booking form. Cost (incl. gst)$10 per person 								\n				\n						\n					\n			\n						\n									Find out about our Night Tours 								\n				\n										\n						\n									More Tour Information\n					\n					\n								\n					\n		\n				\n			\n						\n										\n						\n									Enq/Book a Day Tour\n					\n					\n								\n					\n		\n					\n		\n				\n							\n						\n				\n							\n			\n						\n		\n						\n				\n						\n					\n			\n						\n										\n						\n									Subscribe Newsletter\n					\n					\n								\n					\n		\n				\n			\n						\n										\n						\n									Become a BMI Member\n					\n					\n								\n					\n		\n					\n		\n					\n		\n					\n		\n				\n						\n					\n			\n						\n							\n			\n		\n						\n				\n					\n            \n        \n            \n                \n            \n        Rosemary’s Book of the Week\n                        When lemons give you life Anna Johnston Don’t miss Anna... \n                    \n        \n    \n        \n            \n                \n            \n        ANZAC Day | Ballarat Arch of Victory & Avenue of Honour\n                        ANZAC Day Feel the Spirits  The Arch of Victory Avenue... \n                    \n        \n    \n        \n            \n                \n            \n        2026 BMI Appeal | Give now\n                        A message from the President Support the Ballaarat Mechanics’ Institute... \n                    \n        \n    \n        \n            \n                \n            \n        Rosemary’s Book of the Week\n                        The Drowning Fiona Lowe Don’t miss Fiona at the BMI... \n                    \n        \n    \n            \n                    \n                \n                    \n                    Load More
URL:https://ballaratmi.org.au/event/ktcu/
LOCATION:BMI – Multiple Spaces\, 117-119 Sturt Street\, Ballarat Central\, VIC\, 3350\, Australia
CATEGORIES:Externally Produced Event
ATTACH;FMTTYPE=image/jpeg:https://ballaratmi.org.au/wp-content/uploads/2021/03/540137b6bebec0055e539e5a54d24651.jpg
END:VEVENT
BEGIN:VEVENT
DTSTART;TZID=Australia/Melbourne:20210318T190000
DTEND;TZID=Australia/Melbourne:20210318T210000
DTSTAMP:20260421T213624
CREATED:20210308T063321Z
LAST-MODIFIED:20210902T231833Z
UID:2357-1616094000-1616101200@ballaratmi.org.au
SUMMARY:MICF Class Clowns | Ballarat Heat
DESCRIPTION:Image: Courtesy Paul Lambeth 								\n				\n									The Tour (by day) A colourful history of the Ballaarat Mechanics’ Institute and it’s people. Tuesday’s at 2pm By appointment only\, (to organise a volunteer guide we require 24hrs notice). Please complete the on-line booking form. Cost (incl. gst)$10 per person 								\n				\n						\n					\n			\n						\n									Find out about our Night Tours 								\n				\n										\n						\n									More Tour Information\n					\n					\n								\n					\n		\n				\n			\n						\n										\n						\n									Enq/Book a Day Tour\n					\n					\n								\n					\n		\n					\n		\n				\n							\n						\n				\n							\n			\n						\n		\n						\n				\n						\n					\n			\n						\n										\n						\n									Subscribe Newsletter\n					\n					\n								\n					\n		\n				\n			\n						\n										\n						\n									Become a BMI Member\n					\n					\n								\n					\n		\n					\n		\n					\n		\n					\n		\n				\n						\n					\n			\n						\n							\n			\n		\n						\n				\n					\n            \n        \n            \n                \n            \n        Rosemary’s Book of the Week\n                        When lemons give you life Anna Johnston Don’t miss Anna... \n                    \n        \n    \n        \n            \n                \n            \n        ANZAC Day | Ballarat Arch of Victory & Avenue of Honour\n                        ANZAC Day Feel the Spirits  The Arch of Victory Avenue... \n                    \n        \n    \n        \n            \n                \n            \n        2026 BMI Appeal | Give now\n                        A message from the President Support the Ballaarat Mechanics’ Institute... \n                    \n        \n    \n        \n            \n                \n            \n        Rosemary’s Book of the Week\n                        The Drowning Fiona Lowe Don’t miss Fiona at the BMI... \n                    \n        \n    \n            \n                    \n                \n                    \n                    Load More
URL:https://ballaratmi.org.au/event/class-clowns-2021/
LOCATION:BMI – Multiple Spaces\, 117-119 Sturt Street\, Ballarat Central\, VIC\, 3350\, Australia
CATEGORIES:Externally Produced Event
ATTACH;FMTTYPE=image/jpeg:https://ballaratmi.org.au/wp-content/uploads/2021/03/88e0e8e29bd66f49a899dbff909c887c.jpg
END:VEVENT
BEGIN:VEVENT
DTSTART;TZID=Australia/Melbourne:20210313T190000
DTEND;TZID=Australia/Melbourne:20210313T223000
DTSTAMP:20260421T213624
CREATED:20210308T063350Z
LAST-MODIFIED:20210902T231845Z
UID:2361-1615662000-1615674600@ballaratmi.org.au
SUMMARY:Big Women | Presented by LadderFrame Theatre
DESCRIPTION:Image: Courtesy Paul Lambeth 								\n				\n									The Tour (by day) A colourful history of the Ballaarat Mechanics’ Institute and it’s people. Tuesday’s at 2pm By appointment only\, (to organise a volunteer guide we require 24hrs notice). Please complete the on-line booking form. Cost (incl. gst)$10 per person 								\n				\n						\n					\n			\n						\n									Find out about our Night Tours 								\n				\n										\n						\n									More Tour Information\n					\n					\n								\n					\n		\n				\n			\n						\n										\n						\n									Enq/Book a Day Tour\n					\n					\n								\n					\n		\n					\n		\n				\n							\n						\n				\n							\n			\n						\n		\n						\n				\n						\n					\n			\n						\n										\n						\n									Subscribe Newsletter\n					\n					\n								\n					\n		\n				\n			\n						\n										\n						\n									Become a BMI Member\n					\n					\n								\n					\n		\n					\n		\n					\n		\n					\n		\n				\n						\n					\n			\n						\n							\n			\n		\n						\n				\n					\n            \n        \n            \n                \n            \n        Rosemary’s Book of the Week\n                        When lemons give you life Anna Johnston Don’t miss Anna... \n                    \n        \n    \n        \n            \n                \n            \n        ANZAC Day | Ballarat Arch of Victory & Avenue of Honour\n                        ANZAC Day Feel the Spirits  The Arch of Victory Avenue... \n                    \n        \n    \n        \n            \n                \n            \n        2026 BMI Appeal | Give now\n                        A message from the President Support the Ballaarat Mechanics’ Institute... \n                    \n        \n    \n        \n            \n                \n            \n        Rosemary’s Book of the Week\n                        The Drowning Fiona Lowe Don’t miss Fiona at the BMI... \n                    \n        \n    \n            \n                    \n                \n                    \n                    Load More
URL:https://ballaratmi.org.au/event/big-women/
LOCATION:BMI – Multiple Spaces\, 117-119 Sturt Street\, Ballarat Central\, VIC\, 3350\, Australia
CATEGORIES:Externally Produced Event
ATTACH;FMTTYPE=image/jpeg:https://ballaratmi.org.au/wp-content/uploads/2021/03/9bed223c4c2963ef1986371ff06f951f.jpg
END:VEVENT
END:VCALENDAR