BEGIN:VCALENDAR
VERSION:2.0
PRODID:-//Ballaarat Mechanics&#039; Institute - ECPv6.15.20//NONSGML v1.0//EN
CALSCALE:GREGORIAN
METHOD:PUBLISH
X-ORIGINAL-URL:https://ballaratmi.org.au
X-WR-CALDESC:Events for Ballaarat Mechanics&#039; Institute
REFRESH-INTERVAL;VALUE=DURATION:PT1H
X-Robots-Tag:noindex
X-PUBLISHED-TTL:PT1H
BEGIN:VTIMEZONE
TZID:Australia/Melbourne
BEGIN:STANDARD
TZOFFSETFROM:+1100
TZOFFSETTO:+1000
TZNAME:AEST
DTSTART:20240406T160000
END:STANDARD
BEGIN:DAYLIGHT
TZOFFSETFROM:+1000
TZOFFSETTO:+1100
TZNAME:AEDT
DTSTART:20241005T160000
END:DAYLIGHT
BEGIN:STANDARD
TZOFFSETFROM:+1100
TZOFFSETTO:+1000
TZNAME:AEST
DTSTART:20250405T160000
END:STANDARD
BEGIN:DAYLIGHT
TZOFFSETFROM:+1000
TZOFFSETTO:+1100
TZNAME:AEDT
DTSTART:20251004T160000
END:DAYLIGHT
BEGIN:STANDARD
TZOFFSETFROM:+1100
TZOFFSETTO:+1000
TZNAME:AEST
DTSTART:20260404T160000
END:STANDARD
BEGIN:DAYLIGHT
TZOFFSETFROM:+1000
TZOFFSETTO:+1100
TZNAME:AEDT
DTSTART:20261003T160000
END:DAYLIGHT
END:VTIMEZONE
BEGIN:VEVENT
DTSTART;TZID=Australia/Melbourne:20250802T093000
DTEND;TZID=Australia/Melbourne:20250802T210000
DTSTAMP:20260423T200332
CREATED:20250625T043529Z
LAST-MODIFIED:20250626T063828Z
UID:65954-1754127000-1754168400@ballaratmi.org.au
SUMMARY:Royal South Street Society | Freemasons Vocal Schedule & Championship Challenge
DESCRIPTION:Whistle and Trick 				\n					\n		\n					\n		\n				\n						\n					\n			\n						\n																														\n				\n							\n			\n		\n						\n					\n		\n					\n		\n				\n						\n					\n			\n						\n						\n					\n			\n							\n		\n				\n			\n						\n				\n					\n		\n			July 4\n\n	\n\n	  @  \n\n\n10:00 am\n\n		\n\n\n\n	\n	  -  \n\n11:00 am\n\n\n\n	\n				\n				\n					\n		\n				\n			\n						\n				\n					\n$30 – $130 				\n				\n					\n		\n				\n			\n						\n									Minerva Space. 								\n					\n		\n				\n			\n							\n		\n					\n		\n					\n		\n					\n		\n				\n						\n					\n			\n						\n							\n			\n		\n						\n				\n																														\n					\n		\n					\n		\n				\n						\n					\n			\n						\n							\n			\n		\n						\n					\n		\n					\n		\n				\n						\n					\n			\n						\n							\n			\n		\n						\n				\n										\n						\n									Get Tickets\n					\n					\n								\n				\n						\n					\n			\n						\n									Aria-nominated musical duo\, Whistle & Trick are always ready to sing\, dance\, and cause a bit of mischief. 								\n				\n							\n			\n		\n						\n				\n																														\n				\n							\n			\n		\n						\n				\n									 Writing original music for kids and their big people\, a Whistle & Trick show is bound to get the whole family up and moving. 								\n				\n									Signed with ABC Music\, Whistle & Trick have two albums and an EP under their belt\, and you can catch their original music video clips on ABC Kids TV and iView. As big kids themselves\, they love to explore all the wonderful\, wacky things in life\, through a variety of musical styles and live instrumentation. Whistle and Trick bring a sense of play and imagination into every performance and are sure to bring the party to the stage for a whole heap of musical fun! 								\n				\n									\n				\n							\n			\n		\n						\n					\n		\n					\n		\n				\n						\n					\n			\n						\n							\n			\n						\n		\n						\n					\n		\n				\n			\n						\n							\n			\n						\n		\n						\n					\n		\n				\n			\n						\n							\n			\n						\n		\n						\n					\n		\n					\n		\n				\n							\n						\n				\n						\n					\n			\n						\n									Presale: $30 Presale – Family: $110\, plus booking fee. Presale dates 10am 15 April – 9am 17 April. General Admission $35 General – Family $130\, plus booking fee Onsale date from 10am 17 April. Family defination: 2 adults & 2 children/juniors or 1 adult & 3 children/juniors. 								\n				\n									There is no allocated seating. 								\n					\n		\n				\n			\n						\n										\n						\n									Tickets\n					\n					\n								\n				\n																														\n					\n		\n					\n		\n					\n		\n					\n		\n				\n						\n					\n			\n						\n									A Cult Artists Production 								\n				\n						\n					\n			\n						\n							\n			\n						\n		\n						\n					\n		\n				\n			\n						\n							\n			\n						\n		\n						\n					\n		\n					\n		\n				\n							\n			\n		\n						\n				\n							\n			\n						\n		\n						\n					\n		\n					\n		\n				\n						\n					\n			\n						\n																														\n					\n		\n				\n			\n						\n									This event takes place on Wadawurrung Country. Ballaarat Mechanics’ Institute acknowledges the Wadawurrung People of the Kulin Nation as the first inhabitants and Traditional Custodians of the lands where we work\, learn and create. Always Was\, Always Will Be\, Aboriginal Land.
URL:https://ballaratmi.org.au/event/rsss-vocal-schedule-9-2/
LOCATION:The Ballaarat Mechanics’ Institute\, 117-119 Sturt Street\, Ballarat Central\, VIC\, 3350\, Australia
CATEGORIES:Important Dates,Live Music,Royal South Street Society
ATTACH;FMTTYPE=image/webp:https://ballaratmi.org.au/wp-content/uploads/2024/07/sq-promos3.webp
END:VEVENT
BEGIN:VEVENT
DTSTART;TZID=Australia/Melbourne:20250804T193000
DTEND;TZID=Australia/Melbourne:20250804T213000
DTSTAMP:20260423T200332
CREATED:20250625T000219Z
LAST-MODIFIED:20250722T042831Z
UID:65888-1754335800-1754343000@ballaratmi.org.au
SUMMARY:Royal South Street Society | Herald Sun Aria Semi Final
DESCRIPTION:Whistle and Trick 				\n					\n		\n					\n		\n				\n						\n					\n			\n						\n																														\n				\n							\n			\n		\n						\n					\n		\n					\n		\n				\n						\n					\n			\n						\n						\n					\n			\n							\n		\n				\n			\n						\n				\n					\n		\n			July 4\n\n	\n\n	  @  \n\n\n10:00 am\n\n		\n\n\n\n	\n	  -  \n\n11:00 am\n\n\n\n	\n				\n				\n					\n		\n				\n			\n						\n				\n					\n$30 – $130 				\n				\n					\n		\n				\n			\n						\n									Minerva Space. 								\n					\n		\n				\n			\n							\n		\n					\n		\n					\n		\n					\n		\n				\n						\n					\n			\n						\n							\n			\n		\n						\n				\n																														\n					\n		\n					\n		\n				\n						\n					\n			\n						\n							\n			\n		\n						\n					\n		\n					\n		\n				\n						\n					\n			\n						\n							\n			\n		\n						\n				\n										\n						\n									Get Tickets\n					\n					\n								\n				\n						\n					\n			\n						\n									Aria-nominated musical duo\, Whistle & Trick are always ready to sing\, dance\, and cause a bit of mischief. 								\n				\n							\n			\n		\n						\n				\n																														\n				\n							\n			\n		\n						\n				\n									 Writing original music for kids and their big people\, a Whistle & Trick show is bound to get the whole family up and moving. 								\n				\n									Signed with ABC Music\, Whistle & Trick have two albums and an EP under their belt\, and you can catch their original music video clips on ABC Kids TV and iView. As big kids themselves\, they love to explore all the wonderful\, wacky things in life\, through a variety of musical styles and live instrumentation. Whistle and Trick bring a sense of play and imagination into every performance and are sure to bring the party to the stage for a whole heap of musical fun! 								\n				\n									\n				\n							\n			\n		\n						\n					\n		\n					\n		\n				\n						\n					\n			\n						\n							\n			\n						\n		\n						\n					\n		\n				\n			\n						\n							\n			\n						\n		\n						\n					\n		\n				\n			\n						\n							\n			\n						\n		\n						\n					\n		\n					\n		\n				\n							\n						\n				\n						\n					\n			\n						\n									Presale: $30 Presale – Family: $110\, plus booking fee. Presale dates 10am 15 April – 9am 17 April. General Admission $35 General – Family $130\, plus booking fee Onsale date from 10am 17 April. Family defination: 2 adults & 2 children/juniors or 1 adult & 3 children/juniors. 								\n				\n									There is no allocated seating. 								\n					\n		\n				\n			\n						\n										\n						\n									Tickets\n					\n					\n								\n				\n																														\n					\n		\n					\n		\n					\n		\n					\n		\n				\n						\n					\n			\n						\n									A Cult Artists Production 								\n				\n						\n					\n			\n						\n							\n			\n						\n		\n						\n					\n		\n				\n			\n						\n							\n			\n						\n		\n						\n					\n		\n					\n		\n				\n							\n			\n		\n						\n				\n							\n			\n						\n		\n						\n					\n		\n					\n		\n				\n						\n					\n			\n						\n																														\n					\n		\n				\n			\n						\n									This event takes place on Wadawurrung Country. Ballaarat Mechanics’ Institute acknowledges the Wadawurrung People of the Kulin Nation as the first inhabitants and Traditional Custodians of the lands where we work\, learn and create. Always Was\, Always Will Be\, Aboriginal Land.
URL:https://ballaratmi.org.au/event/rsss-aria-semi-final/
LOCATION:The Ballaarat Mechanics’ Institute\, 117-119 Sturt Street\, Ballarat Central\, VIC\, 3350\, Australia
CATEGORIES:Important Dates,Live Music,Royal South Street Society,Theatre Production
ATTACH;FMTTYPE=image/webp:https://ballaratmi.org.au/wp-content/uploads/2024/07/sq-promos.webp
END:VEVENT
BEGIN:VEVENT
DTSTART;TZID=Australia/Melbourne:20250810T140000
DTEND;TZID=Australia/Melbourne:20250810T160000
DTSTAMP:20260423T200332
CREATED:20250512T035956Z
LAST-MODIFIED:20250805T061800Z
UID:64945-1754834400-1754841600@ballaratmi.org.au
SUMMARY:The Little Brass Band | BMI Fundraiser: Cheers\, Raise a Glass to Brass
DESCRIPTION:Whistle and Trick 				\n					\n		\n					\n		\n				\n						\n					\n			\n						\n																														\n				\n							\n			\n		\n						\n					\n		\n					\n		\n				\n						\n					\n			\n						\n						\n					\n			\n							\n		\n				\n			\n						\n				\n					\n		\n			July 4\n\n	\n\n	  @  \n\n\n10:00 am\n\n		\n\n\n\n	\n	  -  \n\n11:00 am\n\n\n\n	\n				\n				\n					\n		\n				\n			\n						\n				\n					\n$30 – $130 				\n				\n					\n		\n				\n			\n						\n									Minerva Space. 								\n					\n		\n				\n			\n							\n		\n					\n		\n					\n		\n					\n		\n				\n						\n					\n			\n						\n							\n			\n		\n						\n				\n																														\n					\n		\n					\n		\n				\n						\n					\n			\n						\n							\n			\n		\n						\n					\n		\n					\n		\n				\n						\n					\n			\n						\n							\n			\n		\n						\n				\n										\n						\n									Get Tickets\n					\n					\n								\n				\n						\n					\n			\n						\n									Aria-nominated musical duo\, Whistle & Trick are always ready to sing\, dance\, and cause a bit of mischief. 								\n				\n							\n			\n		\n						\n				\n																														\n				\n							\n			\n		\n						\n				\n									 Writing original music for kids and their big people\, a Whistle & Trick show is bound to get the whole family up and moving. 								\n				\n									Signed with ABC Music\, Whistle & Trick have two albums and an EP under their belt\, and you can catch their original music video clips on ABC Kids TV and iView. As big kids themselves\, they love to explore all the wonderful\, wacky things in life\, through a variety of musical styles and live instrumentation. Whistle and Trick bring a sense of play and imagination into every performance and are sure to bring the party to the stage for a whole heap of musical fun! 								\n				\n									\n				\n							\n			\n		\n						\n					\n		\n					\n		\n				\n						\n					\n			\n						\n							\n			\n						\n		\n						\n					\n		\n				\n			\n						\n							\n			\n						\n		\n						\n					\n		\n				\n			\n						\n							\n			\n						\n		\n						\n					\n		\n					\n		\n				\n							\n						\n				\n						\n					\n			\n						\n									Presale: $30 Presale – Family: $110\, plus booking fee. Presale dates 10am 15 April – 9am 17 April. General Admission $35 General – Family $130\, plus booking fee Onsale date from 10am 17 April. Family defination: 2 adults & 2 children/juniors or 1 adult & 3 children/juniors. 								\n				\n									There is no allocated seating. 								\n					\n		\n				\n			\n						\n										\n						\n									Tickets\n					\n					\n								\n				\n																														\n					\n		\n					\n		\n					\n		\n					\n		\n				\n						\n					\n			\n						\n									A Cult Artists Production 								\n				\n						\n					\n			\n						\n							\n			\n						\n		\n						\n					\n		\n				\n			\n						\n							\n			\n						\n		\n						\n					\n		\n					\n		\n				\n							\n			\n		\n						\n				\n							\n			\n						\n		\n						\n					\n		\n					\n		\n				\n						\n					\n			\n						\n																														\n					\n		\n				\n			\n						\n									This event takes place on Wadawurrung Country. Ballaarat Mechanics’ Institute acknowledges the Wadawurrung People of the Kulin Nation as the first inhabitants and Traditional Custodians of the lands where we work\, learn and create. Always Was\, Always Will Be\, Aboriginal Land.
URL:https://ballaratmi.org.au/event/little-brass-band/
LOCATION:The Ballaarat Mechanics’ Institute\, 117-119 Sturt Street\, Ballarat Central\, VIC\, 3350\, Australia
CATEGORIES:Fundraiser,Live Music
ATTACH;FMTTYPE=image/webp:https://ballaratmi.org.au/wp-content/uploads/2025/05/little-brass-band-square-promo.webp
END:VEVENT
BEGIN:VEVENT
DTSTART;TZID=Australia/Melbourne:20250816T193000
DTEND;TZID=Australia/Melbourne:20250816T220000
DTSTAMP:20260423T200332
CREATED:20250605T021537Z
LAST-MODIFIED:20250801T031934Z
UID:65518-1755372600-1755381600@ballaratmi.org.au
SUMMARY:Craig McLachlan Live & Intimate - Six String Stories
DESCRIPTION:Whistle and Trick 				\n					\n		\n					\n		\n				\n						\n					\n			\n						\n																														\n				\n							\n			\n		\n						\n					\n		\n					\n		\n				\n						\n					\n			\n						\n						\n					\n			\n							\n		\n				\n			\n						\n				\n					\n		\n			July 4\n\n	\n\n	  @  \n\n\n10:00 am\n\n		\n\n\n\n	\n	  -  \n\n11:00 am\n\n\n\n	\n				\n				\n					\n		\n				\n			\n						\n				\n					\n$30 – $130 				\n				\n					\n		\n				\n			\n						\n									Minerva Space. 								\n					\n		\n				\n			\n							\n		\n					\n		\n					\n		\n					\n		\n				\n						\n					\n			\n						\n							\n			\n		\n						\n				\n																														\n					\n		\n					\n		\n				\n						\n					\n			\n						\n							\n			\n		\n						\n					\n		\n					\n		\n				\n						\n					\n			\n						\n							\n			\n		\n						\n				\n										\n						\n									Get Tickets\n					\n					\n								\n				\n						\n					\n			\n						\n									Aria-nominated musical duo\, Whistle & Trick are always ready to sing\, dance\, and cause a bit of mischief. 								\n				\n							\n			\n		\n						\n				\n																														\n				\n							\n			\n		\n						\n				\n									 Writing original music for kids and their big people\, a Whistle & Trick show is bound to get the whole family up and moving. 								\n				\n									Signed with ABC Music\, Whistle & Trick have two albums and an EP under their belt\, and you can catch their original music video clips on ABC Kids TV and iView. As big kids themselves\, they love to explore all the wonderful\, wacky things in life\, through a variety of musical styles and live instrumentation. Whistle and Trick bring a sense of play and imagination into every performance and are sure to bring the party to the stage for a whole heap of musical fun! 								\n				\n									\n				\n							\n			\n		\n						\n					\n		\n					\n		\n				\n						\n					\n			\n						\n							\n			\n						\n		\n						\n					\n		\n				\n			\n						\n							\n			\n						\n		\n						\n					\n		\n				\n			\n						\n							\n			\n						\n		\n						\n					\n		\n					\n		\n				\n							\n						\n				\n						\n					\n			\n						\n									Presale: $30 Presale – Family: $110\, plus booking fee. Presale dates 10am 15 April – 9am 17 April. General Admission $35 General – Family $130\, plus booking fee Onsale date from 10am 17 April. Family defination: 2 adults & 2 children/juniors or 1 adult & 3 children/juniors. 								\n				\n									There is no allocated seating. 								\n					\n		\n				\n			\n						\n										\n						\n									Tickets\n					\n					\n								\n				\n																														\n					\n		\n					\n		\n					\n		\n					\n		\n				\n						\n					\n			\n						\n									A Cult Artists Production 								\n				\n						\n					\n			\n						\n							\n			\n						\n		\n						\n					\n		\n				\n			\n						\n							\n			\n						\n		\n						\n					\n		\n					\n		\n				\n							\n			\n		\n						\n				\n							\n			\n						\n		\n						\n					\n		\n					\n		\n				\n						\n					\n			\n						\n																														\n					\n		\n				\n			\n						\n									This event takes place on Wadawurrung Country. Ballaarat Mechanics’ Institute acknowledges the Wadawurrung People of the Kulin Nation as the first inhabitants and Traditional Custodians of the lands where we work\, learn and create. Always Was\, Always Will Be\, Aboriginal Land.
URL:https://ballaratmi.org.au/event/craig-mc-lachlan/
LOCATION:BMI – Minerva Space\, 117-119 Sturt Street\, Ballarat Central\, VIC\, 3350
CATEGORIES:BMI Produced Event,Live Music,Talk
ATTACH;FMTTYPE=image/webp:https://ballaratmi.org.au/wp-content/uploads/2025/06/CRAIG-MCLACHLAN-SixStringStories_CM_Hero_draft2-Liam-Mudge.webp
END:VEVENT
BEGIN:VEVENT
DTSTART;TZID=Australia/Melbourne:20250823T200000
DTEND;TZID=Australia/Melbourne:20250823T230000
DTSTAMP:20260423T200332
CREATED:20241204T023112Z
LAST-MODIFIED:20260203T025535Z
UID:60476-1755979200-1755990000@ballaratmi.org.au
SUMMARY:Six String Blues - A Tribute To Blues Guitar
DESCRIPTION:Whistle and Trick 				\n					\n		\n					\n		\n				\n						\n					\n			\n						\n																														\n				\n							\n			\n		\n						\n					\n		\n					\n		\n				\n						\n					\n			\n						\n						\n					\n			\n							\n		\n				\n			\n						\n				\n					\n		\n			July 4\n\n	\n\n	  @  \n\n\n10:00 am\n\n		\n\n\n\n	\n	  -  \n\n11:00 am\n\n\n\n	\n				\n				\n					\n		\n				\n			\n						\n				\n					\n$30 – $130 				\n				\n					\n		\n				\n			\n						\n									Minerva Space. 								\n					\n		\n				\n			\n							\n		\n					\n		\n					\n		\n					\n		\n				\n						\n					\n			\n						\n							\n			\n		\n						\n				\n																														\n					\n		\n					\n		\n				\n						\n					\n			\n						\n							\n			\n		\n						\n					\n		\n					\n		\n				\n						\n					\n			\n						\n							\n			\n		\n						\n				\n										\n						\n									Get Tickets\n					\n					\n								\n				\n						\n					\n			\n						\n									Aria-nominated musical duo\, Whistle & Trick are always ready to sing\, dance\, and cause a bit of mischief. 								\n				\n							\n			\n		\n						\n				\n																														\n				\n							\n			\n		\n						\n				\n									 Writing original music for kids and their big people\, a Whistle & Trick show is bound to get the whole family up and moving. 								\n				\n									Signed with ABC Music\, Whistle & Trick have two albums and an EP under their belt\, and you can catch their original music video clips on ABC Kids TV and iView. As big kids themselves\, they love to explore all the wonderful\, wacky things in life\, through a variety of musical styles and live instrumentation. Whistle and Trick bring a sense of play and imagination into every performance and are sure to bring the party to the stage for a whole heap of musical fun! 								\n				\n									\n				\n							\n			\n		\n						\n					\n		\n					\n		\n				\n						\n					\n			\n						\n							\n			\n						\n		\n						\n					\n		\n				\n			\n						\n							\n			\n						\n		\n						\n					\n		\n				\n			\n						\n							\n			\n						\n		\n						\n					\n		\n					\n		\n				\n							\n						\n				\n						\n					\n			\n						\n									Presale: $30 Presale – Family: $110\, plus booking fee. Presale dates 10am 15 April – 9am 17 April. General Admission $35 General – Family $130\, plus booking fee Onsale date from 10am 17 April. Family defination: 2 adults & 2 children/juniors or 1 adult & 3 children/juniors. 								\n				\n									There is no allocated seating. 								\n					\n		\n				\n			\n						\n										\n						\n									Tickets\n					\n					\n								\n				\n																														\n					\n		\n					\n		\n					\n		\n					\n		\n				\n						\n					\n			\n						\n									A Cult Artists Production 								\n				\n						\n					\n			\n						\n							\n			\n						\n		\n						\n					\n		\n				\n			\n						\n							\n			\n						\n		\n						\n					\n		\n					\n		\n				\n							\n			\n		\n						\n				\n							\n			\n						\n		\n						\n					\n		\n					\n		\n				\n						\n					\n			\n						\n																														\n					\n		\n				\n			\n						\n									This event takes place on Wadawurrung Country. Ballaarat Mechanics’ Institute acknowledges the Wadawurrung People of the Kulin Nation as the first inhabitants and Traditional Custodians of the lands where we work\, learn and create. Always Was\, Always Will Be\, Aboriginal Land.
URL:https://ballaratmi.org.au/event/sex-string-blues/
LOCATION:The Ballaarat Mechanics’ Institute\, 117-119 Sturt Street\, Ballarat Central\, VIC\, 3350\, Australia
CATEGORIES:Ballarat Blues Festival,Live Music
ATTACH;FMTTYPE=image/webp:https://ballaratmi.org.au/wp-content/uploads/2024/12/square-promo-six-string-blues.webp
ORGANIZER;CN="Matt Arthur Music":MAILTO:matt@mattarthurmusic.com
END:VEVENT
BEGIN:VEVENT
DTSTART;TZID=Australia/Melbourne:20250830T193000
DTEND;TZID=Australia/Melbourne:20250830T203000
DTSTAMP:20260423T200332
CREATED:20250811T023940Z
LAST-MODIFIED:20250812T005435Z
UID:66742-1756582200-1756585800@ballaratmi.org.au
SUMMARY:Melbourne Guitar Quartet
DESCRIPTION:Whistle and Trick 				\n					\n		\n					\n		\n				\n						\n					\n			\n						\n																														\n				\n							\n			\n		\n						\n					\n		\n					\n		\n				\n						\n					\n			\n						\n						\n					\n			\n							\n		\n				\n			\n						\n				\n					\n		\n			July 4\n\n	\n\n	  @  \n\n\n10:00 am\n\n		\n\n\n\n	\n	  -  \n\n11:00 am\n\n\n\n	\n				\n				\n					\n		\n				\n			\n						\n				\n					\n$30 – $130 				\n				\n					\n		\n				\n			\n						\n									Minerva Space. 								\n					\n		\n				\n			\n							\n		\n					\n		\n					\n		\n					\n		\n				\n						\n					\n			\n						\n							\n			\n		\n						\n				\n																														\n					\n		\n					\n		\n				\n						\n					\n			\n						\n							\n			\n		\n						\n					\n		\n					\n		\n				\n						\n					\n			\n						\n							\n			\n		\n						\n				\n										\n						\n									Get Tickets\n					\n					\n								\n				\n						\n					\n			\n						\n									Aria-nominated musical duo\, Whistle & Trick are always ready to sing\, dance\, and cause a bit of mischief. 								\n				\n							\n			\n		\n						\n				\n																														\n				\n							\n			\n		\n						\n				\n									 Writing original music for kids and their big people\, a Whistle & Trick show is bound to get the whole family up and moving. 								\n				\n									Signed with ABC Music\, Whistle & Trick have two albums and an EP under their belt\, and you can catch their original music video clips on ABC Kids TV and iView. As big kids themselves\, they love to explore all the wonderful\, wacky things in life\, through a variety of musical styles and live instrumentation. Whistle and Trick bring a sense of play and imagination into every performance and are sure to bring the party to the stage for a whole heap of musical fun! 								\n				\n									\n				\n							\n			\n		\n						\n					\n		\n					\n		\n				\n						\n					\n			\n						\n							\n			\n						\n		\n						\n					\n		\n				\n			\n						\n							\n			\n						\n		\n						\n					\n		\n				\n			\n						\n							\n			\n						\n		\n						\n					\n		\n					\n		\n				\n							\n						\n				\n						\n					\n			\n						\n									Presale: $30 Presale – Family: $110\, plus booking fee. Presale dates 10am 15 April – 9am 17 April. General Admission $35 General – Family $130\, plus booking fee Onsale date from 10am 17 April. Family defination: 2 adults & 2 children/juniors or 1 adult & 3 children/juniors. 								\n				\n									There is no allocated seating. 								\n					\n		\n				\n			\n						\n										\n						\n									Tickets\n					\n					\n								\n				\n																														\n					\n		\n					\n		\n					\n		\n					\n		\n				\n						\n					\n			\n						\n									A Cult Artists Production 								\n				\n						\n					\n			\n						\n							\n			\n						\n		\n						\n					\n		\n				\n			\n						\n							\n			\n						\n		\n						\n					\n		\n					\n		\n				\n							\n			\n		\n						\n				\n							\n			\n						\n		\n						\n					\n		\n					\n		\n				\n						\n					\n			\n						\n																														\n					\n		\n				\n			\n						\n									This event takes place on Wadawurrung Country. Ballaarat Mechanics’ Institute acknowledges the Wadawurrung People of the Kulin Nation as the first inhabitants and Traditional Custodians of the lands where we work\, learn and create. Always Was\, Always Will Be\, Aboriginal Land.
URL:https://ballaratmi.org.au/event/melbourne-guitar-quartet/
LOCATION:BMI – Minerva Space\, 117-119 Sturt Street\, Ballarat Central\, VIC\, 3350
CATEGORIES:Classical Music,Live Music
ATTACH;FMTTYPE=image/webp:https://ballaratmi.org.au/wp-content/uploads/2025/08/square-promo.webp
ORGANIZER;CN="Concerts Australia":MAILTO:michael@concertsaustralia.com
END:VEVENT
BEGIN:VEVENT
DTSTART;TZID=Australia/Melbourne:20250831T130000
DTEND;TZID=Australia/Melbourne:20250831T140000
DTSTAMP:20260423T200332
CREATED:20250722T023048Z
LAST-MODIFIED:20250813T030553Z
UID:66327-1756645200-1756648800@ballaratmi.org.au
SUMMARY:A Poet's Guide to Love and Loss | A Ballarat Arts Foundation fundraiser featuring tenor Douglas Kelly
DESCRIPTION:Whistle and Trick 				\n					\n		\n					\n		\n				\n						\n					\n			\n						\n																														\n				\n							\n			\n		\n						\n					\n		\n					\n		\n				\n						\n					\n			\n						\n						\n					\n			\n							\n		\n				\n			\n						\n				\n					\n		\n			July 4\n\n	\n\n	  @  \n\n\n10:00 am\n\n		\n\n\n\n	\n	  -  \n\n11:00 am\n\n\n\n	\n				\n				\n					\n		\n				\n			\n						\n				\n					\n$30 – $130 				\n				\n					\n		\n				\n			\n						\n									Minerva Space. 								\n					\n		\n				\n			\n							\n		\n					\n		\n					\n		\n					\n		\n				\n						\n					\n			\n						\n							\n			\n		\n						\n				\n																														\n					\n		\n					\n		\n				\n						\n					\n			\n						\n							\n			\n		\n						\n					\n		\n					\n		\n				\n						\n					\n			\n						\n							\n			\n		\n						\n				\n										\n						\n									Get Tickets\n					\n					\n								\n				\n						\n					\n			\n						\n									Aria-nominated musical duo\, Whistle & Trick are always ready to sing\, dance\, and cause a bit of mischief. 								\n				\n							\n			\n		\n						\n				\n																														\n				\n							\n			\n		\n						\n				\n									 Writing original music for kids and their big people\, a Whistle & Trick show is bound to get the whole family up and moving. 								\n				\n									Signed with ABC Music\, Whistle & Trick have two albums and an EP under their belt\, and you can catch their original music video clips on ABC Kids TV and iView. As big kids themselves\, they love to explore all the wonderful\, wacky things in life\, through a variety of musical styles and live instrumentation. Whistle and Trick bring a sense of play and imagination into every performance and are sure to bring the party to the stage for a whole heap of musical fun! 								\n				\n									\n				\n							\n			\n		\n						\n					\n		\n					\n		\n				\n						\n					\n			\n						\n							\n			\n						\n		\n						\n					\n		\n				\n			\n						\n							\n			\n						\n		\n						\n					\n		\n				\n			\n						\n							\n			\n						\n		\n						\n					\n		\n					\n		\n				\n							\n						\n				\n						\n					\n			\n						\n									Presale: $30 Presale – Family: $110\, plus booking fee. Presale dates 10am 15 April – 9am 17 April. General Admission $35 General – Family $130\, plus booking fee Onsale date from 10am 17 April. Family defination: 2 adults & 2 children/juniors or 1 adult & 3 children/juniors. 								\n				\n									There is no allocated seating. 								\n					\n		\n				\n			\n						\n										\n						\n									Tickets\n					\n					\n								\n				\n																														\n					\n		\n					\n		\n					\n		\n					\n		\n				\n						\n					\n			\n						\n									A Cult Artists Production 								\n				\n						\n					\n			\n						\n							\n			\n						\n		\n						\n					\n		\n				\n			\n						\n							\n			\n						\n		\n						\n					\n		\n					\n		\n				\n							\n			\n		\n						\n				\n							\n			\n						\n		\n						\n					\n		\n					\n		\n				\n						\n					\n			\n						\n																														\n					\n		\n				\n			\n						\n									This event takes place on Wadawurrung Country. Ballaarat Mechanics’ Institute acknowledges the Wadawurrung People of the Kulin Nation as the first inhabitants and Traditional Custodians of the lands where we work\, learn and create. Always Was\, Always Will Be\, Aboriginal Land.
URL:https://ballaratmi.org.au/event/a-poets-guide-to-love-and-loss/
LOCATION:BMI – Humffray Room\, 117-119 Sturt Street\, Ballarat Central\, VIC\, 3350\, Australia
CATEGORIES:Live Music,Theatre Production
ATTACH;FMTTYPE=image/webp:https://ballaratmi.org.au/wp-content/uploads/2025/07/victorian-opera-sq-promo.webp
END:VEVENT
END:VCALENDAR