BEGIN:VCALENDAR
VERSION:2.0
PRODID:-//Ballaarat Mechanics&#039; Institute - ECPv6.15.20//NONSGML v1.0//EN
CALSCALE:GREGORIAN
METHOD:PUBLISH
X-ORIGINAL-URL:https://ballaratmi.org.au
X-WR-CALDESC:Events for Ballaarat Mechanics&#039; Institute
REFRESH-INTERVAL;VALUE=DURATION:PT1H
X-Robots-Tag:noindex
X-PUBLISHED-TTL:PT1H
BEGIN:VTIMEZONE
TZID:Australia/Melbourne
BEGIN:STANDARD
TZOFFSETFROM:+1100
TZOFFSETTO:+1000
TZNAME:AEST
DTSTART:20250405T160000
END:STANDARD
BEGIN:DAYLIGHT
TZOFFSETFROM:+1000
TZOFFSETTO:+1100
TZNAME:AEDT
DTSTART:20251004T160000
END:DAYLIGHT
BEGIN:STANDARD
TZOFFSETFROM:+1100
TZOFFSETTO:+1000
TZNAME:AEST
DTSTART:20260404T160000
END:STANDARD
BEGIN:DAYLIGHT
TZOFFSETFROM:+1000
TZOFFSETTO:+1100
TZNAME:AEDT
DTSTART:20261003T160000
END:DAYLIGHT
BEGIN:STANDARD
TZOFFSETFROM:+1100
TZOFFSETTO:+1000
TZNAME:AEST
DTSTART:20270403T160000
END:STANDARD
BEGIN:DAYLIGHT
TZOFFSETFROM:+1000
TZOFFSETTO:+1100
TZNAME:AEDT
DTSTART:20271002T160000
END:DAYLIGHT
END:VTIMEZONE
BEGIN:VEVENT
DTSTART;TZID=Australia/Melbourne:20260812T180000
DTEND;TZID=Australia/Melbourne:20260812T193000
DTSTAMP:20260424T085621
CREATED:20260324T234500Z
LAST-MODIFIED:20260331T033956Z
UID:71535-1786557600-1786563000@ballaratmi.org.au
SUMMARY:In Conversation with Sophie Green
DESCRIPTION:The Woman Who Knew Too Little by Olivia Wearne A Routine Infidelity by Elizabeth ColemanTHE similarities keep coming for two local authors who discovered they recently published their latest works a couple of days apart from each other. Now Elizabeth Coleman and Olivia Wearne have become fast friends following the release of their second novels. Both crime fiction books\, Coleman’s is titled A Routine Infidelity and Wearne’s The Woman Who Knew Too Little. “I got an email from my agent saying there was another author in Ballarat whose story was very similar to mine and asked if I wanted to meet her\,” Coleman said. “We met for coffee and she said ‘my second book’s coming out’ and I said my second book’s coming out! “Her book has a female detective. My book has a female detective. It was uncanny\, so we thought we would join forces and get ourselves out there through these remarkable coincidences.” Both screenwriters by trade\, Wearne moved to Ballarat and started writing professionally 15 years ago while Coleman has been crafting words for 30 years and relocated to the region in the last half-decade. Coleman said the pair’s shared screenwriting influences is a prominent factor in both their styles. “Another similarity we share is that our screen experiences have really helped us with story structure\,” she said. “Both our stories kind of move along quickly because we’ve had to work to commercial breaks and things like that.” Coleman said it’s important for Australian creatives to support each other. “It’s such a small industry here\, anything creative\,” she said.” We’re competing with enormous overseas giants. “It’s very important we all support each other and lift each other up.” Source: Ballarat Times : 8 March 2023 by Tim Bottams. https://timesnewsgroup.com.au/ballarat/print-editions/full-digital-edition-3-march-2/ 								\n				\n						\n					\n			\n						\n																														\n					\n		\n				\n			\n						\n										\n						\n									More about the author\n					\n					\n								\n					\n		\n					\n		\n				\n									1948. An unidentified dead man is found on Somerton Beach\, Adelaide. Officer Kitty Wheeler yearns to work the case – but the city’s women police are typically assigned to more domestic matters. A wryly funny\, sharply observed novel about one of Australia’s great mysteries\, and the life choices available to mid-century women.December\, 1948. Officer Kitty Wheeler is a member of the Women Police\, responsible for ‘upholding the moral virtue’ of Adelaide’s at times unruly and amorous citizens. Patrolling Somerton beach one night\, Kitty and her partner spot a man leaning against the sea wall\, apparently drunk. It’s late\, they’re tired\, and they leave him to sleep it off …The man is dead\, his identity unknown\, and Kitty has missed a career-making opportunity. In the following months\, the case of the Somerton Man grips first Adelaide\, then Australia\, as bizarre clues point towards international espionage\, Eastern mysticism or salacious scandal. Kitty\, preoccupied with the case\, joins the investigation wherever she can\, although the men are firmly in charge. Meanwhile\, she must decide whether she wants husband and family\, or a career – in 1940s Australia\, she can’t have both. Her boyfriend Peter wants to pop the question\, but Kitty is keener on solving the case …Olivia Wearne has threaded Kitty’s story into the real-life 1940s mystery of the Somerton Man. This intriguing\, sharply observed and wholly engaging novel explores the life and crimes of a city and its people\, few of whom are without their secrets.About the AuthorOlivia Wearne began her writing career as a screenwriter and has several film credits to her name. After receiving a Masters in creative writing she went on to write The Grand Tour\, which was published in 2020. Born and raised in Melbourne\, Olivia now resides in Ballarat\, Victoria\, with her filmmaker husband and two sons. 								\n				\n						\n					\n			\n						\n																														\n					\n		\n				\n			\n						\n										\n						\n									More about the author\n					\n					\n								\n					\n		\n					\n		\n				\n									A delightfully sharp and clever murder mystery\, perfect for fans of Richard Osman’s The Thursday Murder Club. Synopsis: Private investigator Edwina ‘Ted’ Bristol deals in the cheating husbands and missing chihuahuas of Melbourne\, but yearns for the heart-stopping excitement of real crime. When When Ted discovers her sister Bob has fallen prey to an internet catfishing scam\, she sets out with her beloved miniature schnauzer and shrewd sidekick\, Miss Marple\, to catch the swindler. Meanwhile\, when conducting routine surveillance on a couple suspected of having an affair\, she uncovers a plot to embezzle millions. As Bob’s case takes a series of bizarre twists and turns and the embezzlement escalates into murder\, Ted finds her own life in peril. Will she crack her first criminal case before it’s too late? Praise for A Routine Infidelity: Clever plotting\, memorable characters – a delight! Kerry GreenwoodAuthor of the Phryne Fisher Murder Mysteries With Miss Marple as your sidekick how can you lose? I loved every minute with PI Ted\, her friends\, family\, associates… A Routine Infidelity makes the beginning of an excellent series! RWR McDonald\, author of The Nancys High drama\, snappy dialogue and sensational plot twists… This is your regular\, first-class page turner. The Age and Sydney Morning Herald A Routine Infidelity is the first in a new series that is perfect for fans of classic crime dramas. Readings Elizabeth Coleman Biography: Elizabeth Coleman is a successful screenwriter who has written for many beloved Australian dramas\, including every season of Miss Fisher’s Murder Mysteries and Ms Fisher’s Modern Murder Mysteries. She is also the author of the hit play Secret Bridesmaids’ Business and co-creator of the popular ABC drama Bed of Roses. 								\n				\n							\n			\n		\n						\n				\n						\n					\n			\n						\n									Cost $10 per person includes gst & light refreshments 								\n					\n		\n				\n			\n						\n										\n						\n									Book Here\n					\n					\n								\n					\n		\n					\n		\n				\n							\n			\n						\n		\n						\n				\n						\n					\n			\n						\n																\n															\n															\n					\n		\n				\n			\n						\n									Collins Booksellers\, Ballart on Lydiard will be handling book sales on the night. 								\n					\n		\n					\n		\n				\n							\n			\n		\n						\n				\n							\n			\n						\n		\n						\n				\n						\n					\n			\n						\n										\n						\n									Download Flyer\n					\n					\n								\n					\n		\n				\n			\n						\n										\n						\n									Why Not become a member\n					\n					\n								\n					\n		\n					\n		\n				\n							\n			\n		\n						\n				\n						\n					\n			\n						\n																\n															\n															\n					\n		\n					\n		\n				\n									This event is a BMI Community Cultural Project – Ballarat’s Oldest Cultural Institution 								\n					\n		\n					\n		\n				\n						\n					\n			\n						\n							\n			\n						\n		\n						\n				\n							\n			\n		\n						\n				\n					\n            \n        \n            \n                \n            \n        Lantern Vaults opens hidden basement of Ballaarat Mechanics’ Institute\n                        This May\, the rarely seen basement vaults beneath the Ballaarat... \n                    \n        \n    \n        \n            \n                \n            \n        Rosemary’s Book of the Week\n                        When lemons give you life Anna Johnston Don’t miss Anna... \n                    \n        \n    \n        \n            \n                \n            \n        ANZAC Day | Ballarat Arch of Victory & Avenue of Honour\n                        ANZAC Day Feel the Spirits  The Arch of Victory Avenue... \n                    \n        \n    \n        \n            \n                \n            \n        2026 BMI Appeal | Give now\n                        A message from the President Support the Ballaarat Mechanics’ Institute... \n                    \n        \n    \n            \n                    \n                \n                    \n                    Load More
URL:https://ballaratmi.org.au/event/sophie-green/
LOCATION:BMI – Humffray Room\, 117-119 Sturt Street\, Ballarat Central\, VIC\, 3350\, Australia
CATEGORIES:Author Talk,Library
ATTACH;FMTTYPE=image/jpeg:https://ballaratmi.org.au/wp-content/uploads/2026/03/sp-promo-talks-sophie-green.jpg
END:VEVENT
END:VCALENDAR