BEGIN:VCALENDAR
VERSION:2.0
PRODID:-//Ballaarat Mechanics&#039; Institute - ECPv6.15.20//NONSGML v1.0//EN
CALSCALE:GREGORIAN
METHOD:PUBLISH
X-WR-CALNAME:Ballaarat Mechanics&#039; Institute
X-ORIGINAL-URL:https://ballaratmi.org.au
X-WR-CALDESC:Events for Ballaarat Mechanics&#039; Institute
REFRESH-INTERVAL;VALUE=DURATION:PT1H
X-Robots-Tag:noindex
X-PUBLISHED-TTL:PT1H
BEGIN:VTIMEZONE
TZID:Australia/Melbourne
BEGIN:STANDARD
TZOFFSETFROM:+1100
TZOFFSETTO:+1000
TZNAME:AEST
DTSTART:20220402T160000
END:STANDARD
BEGIN:DAYLIGHT
TZOFFSETFROM:+1000
TZOFFSETTO:+1100
TZNAME:AEDT
DTSTART:20221001T160000
END:DAYLIGHT
BEGIN:STANDARD
TZOFFSETFROM:+1100
TZOFFSETTO:+1000
TZNAME:AEST
DTSTART:20230401T160000
END:STANDARD
BEGIN:DAYLIGHT
TZOFFSETFROM:+1000
TZOFFSETTO:+1100
TZNAME:AEDT
DTSTART:20230930T160000
END:DAYLIGHT
BEGIN:STANDARD
TZOFFSETFROM:+1100
TZOFFSETTO:+1000
TZNAME:AEST
DTSTART:20240406T160000
END:STANDARD
BEGIN:DAYLIGHT
TZOFFSETFROM:+1000
TZOFFSETTO:+1100
TZNAME:AEDT
DTSTART:20241005T160000
END:DAYLIGHT
BEGIN:STANDARD
TZOFFSETFROM:+1100
TZOFFSETTO:+1000
TZNAME:AEST
DTSTART:20250405T160000
END:STANDARD
BEGIN:DAYLIGHT
TZOFFSETFROM:+1000
TZOFFSETTO:+1100
TZNAME:AEDT
DTSTART:20251004T160000
END:DAYLIGHT
END:VTIMEZONE
BEGIN:VEVENT
DTSTART;TZID=Australia/Melbourne:20231006T103000
DTEND;TZID=Australia/Melbourne:20231006T120000
DTSTAMP:20260421T142216
CREATED:20230713T231912Z
LAST-MODIFIED:20231005T012725Z
UID:41671-1696588200-1696593600@ballaratmi.org.au
SUMMARY:The Photography of the BMI | Victorian Seniors Festival | Now fully Booked
DESCRIPTION:The BMI has recently worked with Grimwade Conservation Services to perform urgently required conservation work on a number of significant items from the Heritage Victoria registered collection. This work was carried out as part of a  Victorian Government Living Heritage Grant awarded in 2021\, with work completed in December 2022. These items include original volumes of Australian plant specimen books compiled by Baron Ferdinand von Mueller\, and associated books written by von Mueller\, an original artwork known to have belonged to the BMI from the early days of the Institute and various other valuable books needing cleaning and restoration work. The primary exhibition will showcase these remarkable items within the Heritage listed building that is the Ballaarat Mechanics’ Institute. The proposed accompanying events will include creative programming to showcase this work\, the wider BMI collection and the historic building and introduce or re-introduce the wider public to “their” Institute. Invitations will be extended to other special interest organisations to bring their members to learn why Ballarat was considered an important centre for learning and knowledge sharing\, even in the 19th century. 								\n					\n		\n					\n		\n				\n						\n					\n			\n						\n						\n					\n			\n						\n									Cost/Entry Fee: Free to BMI members | $5 for non-members 								\n					\n		\n				\n			\n						\n										\n						\n									Book here\n					\n					\n								\n					\n		\n					\n		\n				\n							\n			\n		\n						\n				\n						\n					\n			\n						\n									View the full list of Ballarat Heritage Festival Events at the BMI 								\n					\n		\n				\n			\n						\n										\n						\n									Ballarat Heritage Festival | BMI\n					\n					\n								\n					\n		\n					\n		\n					\n		\n					\n		\n				\n						\n					\n			\n						\n							\n			\n		\n						\n				\n						\n					\n			\n						\n																\n															\n															\n					\n		\n				\n			\n							\n		\n				\n			\n						\n																\n															\n															\n					\n		\n				\n			\n							\n		\n				\n			\n						\n																\n															\n															\n					\n		\n					\n		\n				\n						\n					\n			\n							\n		\n				\n			\n						\n																\n															\n															\n					\n		\n				\n			\n							\n		\n				\n			\n						\n																\n															\n															\n					\n		\n				\n			\n							\n		\n					\n		\n					\n		\n					\n		\n				\n						\n					\n			\n						\n							\n			\n		\n						\n				\n					\n            \n        \n            \n                \n            \n        Rosemary’s Book of the Week\n                        When lemons give you life Anna Johnston Don’t miss Anna... \n                    \n        \n    \n        \n            \n                \n            \n        ANZAC Day | Ballarat Arch of Victory & Avenue of Honour\n                        ANZAC Day Feel the Spirits  The Arch of Victory Avenue... \n                    \n        \n    \n        \n            \n                \n            \n        2026 BMI Appeal | Give now\n                        A message from the President Support the Ballaarat Mechanics’ Institute... \n                    \n        \n    \n        \n            \n                \n            \n        Rosemary’s Book of the Week\n                        The Drowning Fiona Lowe Don’t miss Fiona at the BMI... \n                    \n        \n    \n            \n                    \n                \n                    \n                    Load More
URL:https://ballaratmi.org.au/event/photography-bmi-seniors-festival/
LOCATION:Lending Library\, Sturt Street\, Ballarat Central\, Victoria\, 3350\, Australia
CATEGORIES:Exhibition
ATTACH;FMTTYPE=image/jpeg:https://ballaratmi.org.au/wp-content/uploads/2023/09/MH-1900-Lydiard-St-Flood-1983.jpg
END:VEVENT
BEGIN:VEVENT
DTSTART;TZID=Australia/Melbourne:20240517T103000
DTEND;TZID=Australia/Melbourne:20240530T160000
DTSTAMP:20260421T142216
CREATED:20240301T042355Z
LAST-MODIFIED:20250325T142940Z
UID:51968-1715941800-1717084800@ballaratmi.org.au
SUMMARY:Exhibition | Not the Last Picture Show
DESCRIPTION:The BMI has recently worked with Grimwade Conservation Services to perform urgently required conservation work on a number of significant items from the Heritage Victoria registered collection. This work was carried out as part of a  Victorian Government Living Heritage Grant awarded in 2021\, with work completed in December 2022. These items include original volumes of Australian plant specimen books compiled by Baron Ferdinand von Mueller\, and associated books written by von Mueller\, an original artwork known to have belonged to the BMI from the early days of the Institute and various other valuable books needing cleaning and restoration work. The primary exhibition will showcase these remarkable items within the Heritage listed building that is the Ballaarat Mechanics’ Institute. The proposed accompanying events will include creative programming to showcase this work\, the wider BMI collection and the historic building and introduce or re-introduce the wider public to “their” Institute. Invitations will be extended to other special interest organisations to bring their members to learn why Ballarat was considered an important centre for learning and knowledge sharing\, even in the 19th century. 								\n					\n		\n					\n		\n				\n						\n					\n			\n						\n						\n					\n			\n						\n									Cost/Entry Fee: Free to BMI members | $5 for non-members 								\n					\n		\n				\n			\n						\n										\n						\n									Book here\n					\n					\n								\n					\n		\n					\n		\n				\n							\n			\n		\n						\n				\n						\n					\n			\n						\n									View the full list of Ballarat Heritage Festival Events at the BMI 								\n					\n		\n				\n			\n						\n										\n						\n									Ballarat Heritage Festival | BMI\n					\n					\n								\n					\n		\n					\n		\n					\n		\n					\n		\n				\n						\n					\n			\n						\n							\n			\n		\n						\n				\n						\n					\n			\n						\n																\n															\n															\n					\n		\n				\n			\n							\n		\n				\n			\n						\n																\n															\n															\n					\n		\n				\n			\n							\n		\n				\n			\n						\n																\n															\n															\n					\n		\n					\n		\n				\n						\n					\n			\n							\n		\n				\n			\n						\n																\n															\n															\n					\n		\n				\n			\n							\n		\n				\n			\n						\n																\n															\n															\n					\n		\n				\n			\n							\n		\n					\n		\n					\n		\n					\n		\n				\n						\n					\n			\n						\n							\n			\n		\n						\n				\n					\n            \n        \n            \n                \n            \n        Rosemary’s Book of the Week\n                        When lemons give you life Anna Johnston Don’t miss Anna... \n                    \n        \n    \n        \n            \n                \n            \n        ANZAC Day | Ballarat Arch of Victory & Avenue of Honour\n                        ANZAC Day Feel the Spirits  The Arch of Victory Avenue... \n                    \n        \n    \n        \n            \n                \n            \n        2026 BMI Appeal | Give now\n                        A message from the President Support the Ballaarat Mechanics’ Institute... \n                    \n        \n    \n        \n            \n                \n            \n        Rosemary’s Book of the Week\n                        The Drowning Fiona Lowe Don’t miss Fiona at the BMI... \n                    \n        \n    \n            \n                    \n                \n                    \n                    Load More
URL:https://ballaratmi.org.au/event/exhibition-not-the-last-picture-show/
LOCATION:Hugh Williamson Foyer\, Level 1
CATEGORIES:About us,Art programs,Ballarat Heritage Festival,Culture,Exhibition,Festival,Fundraiser,Twilight Talks,Twilight Talks Heritage Festivals
ATTACH;FMTTYPE=image/jpeg:https://ballaratmi.org.au/wp-content/uploads/2024/03/MH94-Coliseum-Grenville-St-Retouched-copy.jpg
END:VEVENT
BEGIN:VEVENT
DTSTART;TZID=Australia/Melbourne:20240517T103000
DTEND;TZID=Australia/Melbourne:20240530T160000
DTSTAMP:20260421T142216
CREATED:20240305T031915Z
LAST-MODIFIED:20250325T142937Z
UID:52073-1715941800-1717084800@ballaratmi.org.au
SUMMARY:Exhibition | Not the Last Picture Show: From the Archives
DESCRIPTION:The BMI has recently worked with Grimwade Conservation Services to perform urgently required conservation work on a number of significant items from the Heritage Victoria registered collection. This work was carried out as part of a  Victorian Government Living Heritage Grant awarded in 2021\, with work completed in December 2022. These items include original volumes of Australian plant specimen books compiled by Baron Ferdinand von Mueller\, and associated books written by von Mueller\, an original artwork known to have belonged to the BMI from the early days of the Institute and various other valuable books needing cleaning and restoration work. The primary exhibition will showcase these remarkable items within the Heritage listed building that is the Ballaarat Mechanics’ Institute. The proposed accompanying events will include creative programming to showcase this work\, the wider BMI collection and the historic building and introduce or re-introduce the wider public to “their” Institute. Invitations will be extended to other special interest organisations to bring their members to learn why Ballarat was considered an important centre for learning and knowledge sharing\, even in the 19th century. 								\n					\n		\n					\n		\n				\n						\n					\n			\n						\n						\n					\n			\n						\n									Cost/Entry Fee: Free to BMI members | $5 for non-members 								\n					\n		\n				\n			\n						\n										\n						\n									Book here\n					\n					\n								\n					\n		\n					\n		\n				\n							\n			\n		\n						\n				\n						\n					\n			\n						\n									View the full list of Ballarat Heritage Festival Events at the BMI 								\n					\n		\n				\n			\n						\n										\n						\n									Ballarat Heritage Festival | BMI\n					\n					\n								\n					\n		\n					\n		\n					\n		\n					\n		\n				\n						\n					\n			\n						\n							\n			\n		\n						\n				\n						\n					\n			\n						\n																\n															\n															\n					\n		\n				\n			\n							\n		\n				\n			\n						\n																\n															\n															\n					\n		\n				\n			\n							\n		\n				\n			\n						\n																\n															\n															\n					\n		\n					\n		\n				\n						\n					\n			\n							\n		\n				\n			\n						\n																\n															\n															\n					\n		\n				\n			\n							\n		\n				\n			\n						\n																\n															\n															\n					\n		\n				\n			\n							\n		\n					\n		\n					\n		\n					\n		\n				\n						\n					\n			\n						\n							\n			\n		\n						\n				\n					\n            \n        \n            \n                \n            \n        Rosemary’s Book of the Week\n                        When lemons give you life Anna Johnston Don’t miss Anna... \n                    \n        \n    \n        \n            \n                \n            \n        ANZAC Day | Ballarat Arch of Victory & Avenue of Honour\n                        ANZAC Day Feel the Spirits  The Arch of Victory Avenue... \n                    \n        \n    \n        \n            \n                \n            \n        2026 BMI Appeal | Give now\n                        A message from the President Support the Ballaarat Mechanics’ Institute... \n                    \n        \n    \n        \n            \n                \n            \n        Rosemary’s Book of the Week\n                        The Drowning Fiona Lowe Don’t miss Fiona at the BMI... \n                    \n        \n    \n            \n                    \n                \n                    \n                    Load More
URL:https://ballaratmi.org.au/event/exhibition-not-the-last-picture-show-archives/
LOCATION:Heritage Reading Room\, Sturt Street\, Ballarat Central\, VIC\, 3350\, Australia
CATEGORIES:About us,Art programs,Ballarat Heritage Festival,Culture,Exhibition,Fundraiser,Twilight Talks,Twilight Talks Heritage Festivals
ATTACH;FMTTYPE=image/jpeg:https://ballaratmi.org.au/wp-content/uploads/2024/03/archives-16-9.jpg
END:VEVENT
BEGIN:VEVENT
DTSTART;TZID=Australia/Melbourne:20240617T100000
DTEND;TZID=Australia/Melbourne:20240726T150000
DTSTAMP:20260421T142216
CREATED:20240530T040409Z
LAST-MODIFIED:20250325T071412Z
UID:55716-1718618400-1722006000@ballaratmi.org.au
SUMMARY:Human Designs | Zlatko Balazic & John McKee (aka Jack Morph): Featuring the art of Melinda Muscat
DESCRIPTION:The BMI has recently worked with Grimwade Conservation Services to perform urgently required conservation work on a number of significant items from the Heritage Victoria registered collection. This work was carried out as part of a  Victorian Government Living Heritage Grant awarded in 2021\, with work completed in December 2022. These items include original volumes of Australian plant specimen books compiled by Baron Ferdinand von Mueller\, and associated books written by von Mueller\, an original artwork known to have belonged to the BMI from the early days of the Institute and various other valuable books needing cleaning and restoration work. The primary exhibition will showcase these remarkable items within the Heritage listed building that is the Ballaarat Mechanics’ Institute. The proposed accompanying events will include creative programming to showcase this work\, the wider BMI collection and the historic building and introduce or re-introduce the wider public to “their” Institute. Invitations will be extended to other special interest organisations to bring their members to learn why Ballarat was considered an important centre for learning and knowledge sharing\, even in the 19th century. 								\n					\n		\n					\n		\n				\n						\n					\n			\n						\n						\n					\n			\n						\n									Cost/Entry Fee: Free to BMI members | $5 for non-members 								\n					\n		\n				\n			\n						\n										\n						\n									Book here\n					\n					\n								\n					\n		\n					\n		\n				\n							\n			\n		\n						\n				\n						\n					\n			\n						\n									View the full list of Ballarat Heritage Festival Events at the BMI 								\n					\n		\n				\n			\n						\n										\n						\n									Ballarat Heritage Festival | BMI\n					\n					\n								\n					\n		\n					\n		\n					\n		\n					\n		\n				\n						\n					\n			\n						\n							\n			\n		\n						\n				\n						\n					\n			\n						\n																\n															\n															\n					\n		\n				\n			\n							\n		\n				\n			\n						\n																\n															\n															\n					\n		\n				\n			\n							\n		\n				\n			\n						\n																\n															\n															\n					\n		\n					\n		\n				\n						\n					\n			\n							\n		\n				\n			\n						\n																\n															\n															\n					\n		\n				\n			\n							\n		\n				\n			\n						\n																\n															\n															\n					\n		\n				\n			\n							\n		\n					\n		\n					\n		\n					\n		\n				\n						\n					\n			\n						\n							\n			\n		\n						\n				\n					\n            \n        \n            \n                \n            \n        Rosemary’s Book of the Week\n                        When lemons give you life Anna Johnston Don’t miss Anna... \n                    \n        \n    \n        \n            \n                \n            \n        ANZAC Day | Ballarat Arch of Victory & Avenue of Honour\n                        ANZAC Day Feel the Spirits  The Arch of Victory Avenue... \n                    \n        \n    \n        \n            \n                \n            \n        2026 BMI Appeal | Give now\n                        A message from the President Support the Ballaarat Mechanics’ Institute... \n                    \n        \n    \n        \n            \n                \n            \n        Rosemary’s Book of the Week\n                        The Drowning Fiona Lowe Don’t miss Fiona at the BMI... \n                    \n        \n    \n            \n                    \n                \n                    \n                    Load More
URL:https://ballaratmi.org.au/event/human-designs-melinda-muscat/
LOCATION:Hugh Williamson Foyer\, Level 1
CATEGORIES:Art programs,Ballarat Winter Festival,BMI Produced Event,Exhibition,Festival,Projection
ATTACH;FMTTYPE=image/webp:https://ballaratmi.org.au/wp-content/uploads/2024/05/baroque-wonderland-adjusted-2.webp
END:VEVENT
END:VCALENDAR