BEGIN:VCALENDAR
VERSION:2.0
PRODID:-//Ballaarat Mechanics&#039; Institute - ECPv6.15.20//NONSGML v1.0//EN
CALSCALE:GREGORIAN
METHOD:PUBLISH
X-WR-CALNAME:Ballaarat Mechanics&#039; Institute
X-ORIGINAL-URL:https://ballaratmi.org.au
X-WR-CALDESC:Events for Ballaarat Mechanics&#039; Institute
REFRESH-INTERVAL;VALUE=DURATION:PT1H
X-Robots-Tag:noindex
X-PUBLISHED-TTL:PT1H
BEGIN:VTIMEZONE
TZID:Australia/Melbourne
BEGIN:STANDARD
TZOFFSETFROM:+1100
TZOFFSETTO:+1000
TZNAME:AEST
DTSTART:20250405T160000
END:STANDARD
BEGIN:DAYLIGHT
TZOFFSETFROM:+1000
TZOFFSETTO:+1100
TZNAME:AEDT
DTSTART:20251004T160000
END:DAYLIGHT
BEGIN:STANDARD
TZOFFSETFROM:+1100
TZOFFSETTO:+1000
TZNAME:AEST
DTSTART:20260404T160000
END:STANDARD
BEGIN:DAYLIGHT
TZOFFSETFROM:+1000
TZOFFSETTO:+1100
TZNAME:AEDT
DTSTART:20261003T160000
END:DAYLIGHT
BEGIN:STANDARD
TZOFFSETFROM:+1100
TZOFFSETTO:+1000
TZNAME:AEST
DTSTART:20270403T160000
END:STANDARD
BEGIN:DAYLIGHT
TZOFFSETFROM:+1000
TZOFFSETTO:+1100
TZNAME:AEDT
DTSTART:20271002T160000
END:DAYLIGHT
END:VTIMEZONE
BEGIN:VEVENT
DTSTART;TZID=Australia/Melbourne:20260424T190000
DTEND;TZID=Australia/Melbourne:20260424T200000
DTSTAMP:20260424T014618
CREATED:20260310T000249Z
LAST-MODIFIED:20260331T044311Z
UID:71128-1777057200-1777060800@ballaratmi.org.au
SUMMARY:Minerva's Secrets | Night Tour
DESCRIPTION:Ballarat Heritage Festival – Tours of the Ballaarat Mechanics’ Institute 				\n				\n									Thursday 21 May to Saturday 23 May \, 3 tours:  11:30am – 12:30am – 1:30pm  (aporoximately 45 minute duration). 								\n				\n									Sunday 24 May \, 4 tours:  10.30am – 11:30am – 12:30am – 1:30pm  (aporoximately 45 minute duration). 								\n				\n							\n			\n		\n						\n					\n		\n					\n		\n				\n						\n					\n			\n						\n																														\n				\n							\n			\n		\n						\n					\n		\n					\n		\n				\n						\n					\n			\n						\n						\n					\n			\n							\n		\n				\n			\n						\n				\n					\n		\n			May 21\n\n	\n\n	  @  \n\n\n11:30 am\n\n	\n\n		\n	\n	  -  \n\n	May 24\n\n	\n\n	  @  \n\n\n12:15 pm\n\n\n\n	\n				\n				\n					\n		\n				\n			\n						\n				\n					\n$11 				\n				\n					\n		\n				\n			\n						\n									Meet in the Foyer  								\n					\n		\n				\n			\n							\n		\n					\n		\n				\n									Plus bkg. fee 								\n					\n		\n					\n		\n				\n						\n					\n			\n						\n																														\n					\n		\n					\n		\n				\n						\n					\n			\n						\n										\n						\n									Get Tickets\n					\n					\n								\n				\n							\n			\n		\n						\n					\n		\n					\n		\n				\n						\n					\n			\n						\n					Day Tours of the Ballaarat Mechanics' Institute 				\n				\n					The origin of Mechanics' Institutes  				\n					\n		\n					\n		\n				\n						\n					\n			\n						\n						\n					\n			\n						\n							\n			\n						\n		\n						\n				\n									Dr. George Birkbeck\, a professor of natural philosophy in Glasgow\, held the first lectures for the skilled workers of the day in 1799. He is acknowledged as the founder of the mechanics institute movement.  These lectures led to facilities dedicated to workers’ education – the Edinburgh School of Arts opened in 1821 and the London Mechanics’ Institute in 1823. Then\, in the 19th century Institutes spread rapidly throughout the British Empire and to other areas such as the United States. By 1851 over 700 Institutes were operating throughout Britain.The first Australian Institute was established in Hobart in 1827.Sydney followed in 1833 and Melbourne in 1839 (the Melbourne Mechanics’ Institute becamethe Athenaeum in 1873).								\n				\n					Under Minerva's Gaze | Tour information				\n				\n									The research material for your tour has been drawn from – Under Minerva’s Gaze: 150 years at the Ballaarat Mechanics’ Institute (edited by Jill Blee & Phil Roberts). This reference material is available for purchase at the Library or can be purchased via our Shop. 								\n				\n							\n			\n						\n		\n						\n					\n		\n					\n		\n				\n																\n															\n															\n				\n						\n					\n			\n							\n		\n					\n		\n				\n							\n						\n					\n		\n					\n		\n				\n						\n					\n			\n						\n						\n					\n			\n						\n									Cost $11 per person plus fees. 								\n					\n		\n				\n			\n						\n										\n						\n									Get Tickets\n					\n					\n								\n					\n		\n					\n		\n				\n							\n			\n		\n						\n				\n									Accessibility: Most of the tour experience is wheelchair accessible.  BMI Accessibility information can be found at https://ballaratmi.org.au/accessibility  								\n				\n							\n			\n		\n						\n				\n							\n			\n						\n		\n						\n					\n		\n					\n		\n				\n						\n					\n			\n						\n							\n			\n		\n						\n					\n		\n					\n		\n				\n						\n					\n			\n						\n																														\n					\n		\n				\n			\n						\n									This event takes place on Wadawurrung Country. Ballaarat Mechanics’ Institute acknowledges the Wadawurrung People of the Kulin Nation as the first inhabitants and Traditional Custodians of the lands where we work\, learn and create. Always Was\, Always Will Be\, Aboriginal Land.
URL:https://ballaratmi.org.au/event/minervas-secrets-night-tour-24-apr-26/
LOCATION:The Ballaarat Mechanics’ Institute\, 117-119 Sturt Street\, Ballarat Central\, VIC\, 3350\, Australia
CATEGORIES:Australian Heritage Festival,Important Dates,Night Tours,Tours
ATTACH;FMTTYPE=image/jpeg:https://ballaratmi.org.au/wp-content/uploads/2024/02/received_908662326866361-e1708918930337.jpeg
END:VEVENT
BEGIN:VEVENT
DTSTART;TZID=Australia/Melbourne:20260424T210000
DTEND;TZID=Australia/Melbourne:20260424T220000
DTSTAMP:20260424T014618
CREATED:20250923T052206Z
LAST-MODIFIED:20260331T044330Z
UID:67565-1777064400-1777068000@ballaratmi.org.au
SUMMARY:Minerva's Secrets | Night Tour
DESCRIPTION:Ballarat Heritage Festival – Tours of the Ballaarat Mechanics’ Institute 				\n				\n									Thursday 21 May to Saturday 23 May \, 3 tours:  11:30am – 12:30am – 1:30pm  (aporoximately 45 minute duration). 								\n				\n									Sunday 24 May \, 4 tours:  10.30am – 11:30am – 12:30am – 1:30pm  (aporoximately 45 minute duration). 								\n				\n							\n			\n		\n						\n					\n		\n					\n		\n				\n						\n					\n			\n						\n																														\n				\n							\n			\n		\n						\n					\n		\n					\n		\n				\n						\n					\n			\n						\n						\n					\n			\n							\n		\n				\n			\n						\n				\n					\n		\n			May 21\n\n	\n\n	  @  \n\n\n11:30 am\n\n	\n\n		\n	\n	  -  \n\n	May 24\n\n	\n\n	  @  \n\n\n12:15 pm\n\n\n\n	\n				\n				\n					\n		\n				\n			\n						\n				\n					\n$11 				\n				\n					\n		\n				\n			\n						\n									Meet in the Foyer  								\n					\n		\n				\n			\n							\n		\n					\n		\n				\n									Plus bkg. fee 								\n					\n		\n					\n		\n				\n						\n					\n			\n						\n																														\n					\n		\n					\n		\n				\n						\n					\n			\n						\n										\n						\n									Get Tickets\n					\n					\n								\n				\n							\n			\n		\n						\n					\n		\n					\n		\n				\n						\n					\n			\n						\n					Day Tours of the Ballaarat Mechanics' Institute 				\n				\n					The origin of Mechanics' Institutes  				\n					\n		\n					\n		\n				\n						\n					\n			\n						\n						\n					\n			\n						\n							\n			\n						\n		\n						\n				\n									Dr. George Birkbeck\, a professor of natural philosophy in Glasgow\, held the first lectures for the skilled workers of the day in 1799. He is acknowledged as the founder of the mechanics institute movement.  These lectures led to facilities dedicated to workers’ education – the Edinburgh School of Arts opened in 1821 and the London Mechanics’ Institute in 1823. Then\, in the 19th century Institutes spread rapidly throughout the British Empire and to other areas such as the United States. By 1851 over 700 Institutes were operating throughout Britain.The first Australian Institute was established in Hobart in 1827.Sydney followed in 1833 and Melbourne in 1839 (the Melbourne Mechanics’ Institute becamethe Athenaeum in 1873).								\n				\n					Under Minerva's Gaze | Tour information				\n				\n									The research material for your tour has been drawn from – Under Minerva’s Gaze: 150 years at the Ballaarat Mechanics’ Institute (edited by Jill Blee & Phil Roberts). This reference material is available for purchase at the Library or can be purchased via our Shop. 								\n				\n							\n			\n						\n		\n						\n					\n		\n					\n		\n				\n																\n															\n															\n				\n						\n					\n			\n							\n		\n					\n		\n				\n							\n						\n					\n		\n					\n		\n				\n						\n					\n			\n						\n						\n					\n			\n						\n									Cost $11 per person plus fees. 								\n					\n		\n				\n			\n						\n										\n						\n									Get Tickets\n					\n					\n								\n					\n		\n					\n		\n				\n							\n			\n		\n						\n				\n									Accessibility: Most of the tour experience is wheelchair accessible.  BMI Accessibility information can be found at https://ballaratmi.org.au/accessibility  								\n				\n							\n			\n		\n						\n				\n							\n			\n						\n		\n						\n					\n		\n					\n		\n				\n						\n					\n			\n						\n							\n			\n		\n						\n					\n		\n					\n		\n				\n						\n					\n			\n						\n																														\n					\n		\n				\n			\n						\n									This event takes place on Wadawurrung Country. Ballaarat Mechanics’ Institute acknowledges the Wadawurrung People of the Kulin Nation as the first inhabitants and Traditional Custodians of the lands where we work\, learn and create. Always Was\, Always Will Be\, Aboriginal Land.
URL:https://ballaratmi.org.au/event/minervas-secrets-night-tours-24-apr-26-2/
LOCATION:The Ballaarat Mechanics’ Institute\, 117-119 Sturt Street\, Ballarat Central\, VIC\, 3350\, Australia
CATEGORIES:Australian Heritage Festival,Important Dates,Night Tours,Tours
ATTACH;FMTTYPE=image/jpeg:https://ballaratmi.org.au/wp-content/uploads/2024/02/received_265285705882698-e1708919200874.jpeg
END:VEVENT
END:VCALENDAR