BEGIN:VCALENDAR
VERSION:2.0
PRODID:-//Ballaarat Mechanics&#039; Institute - ECPv6.15.20//NONSGML v1.0//EN
CALSCALE:GREGORIAN
METHOD:PUBLISH
X-ORIGINAL-URL:https://ballaratmi.org.au
X-WR-CALDESC:Events for Ballaarat Mechanics&#039; Institute
REFRESH-INTERVAL;VALUE=DURATION:PT1H
X-Robots-Tag:noindex
X-PUBLISHED-TTL:PT1H
BEGIN:VTIMEZONE
TZID:Australia/Melbourne
BEGIN:STANDARD
TZOFFSETFROM:+1100
TZOFFSETTO:+1000
TZNAME:AEST
DTSTART:20230401T160000
END:STANDARD
BEGIN:DAYLIGHT
TZOFFSETFROM:+1000
TZOFFSETTO:+1100
TZNAME:AEDT
DTSTART:20230930T160000
END:DAYLIGHT
BEGIN:STANDARD
TZOFFSETFROM:+1100
TZOFFSETTO:+1000
TZNAME:AEST
DTSTART:20240406T160000
END:STANDARD
BEGIN:DAYLIGHT
TZOFFSETFROM:+1000
TZOFFSETTO:+1100
TZNAME:AEDT
DTSTART:20241005T160000
END:DAYLIGHT
BEGIN:STANDARD
TZOFFSETFROM:+1100
TZOFFSETTO:+1000
TZNAME:AEST
DTSTART:20250405T160000
END:STANDARD
BEGIN:DAYLIGHT
TZOFFSETFROM:+1000
TZOFFSETTO:+1100
TZNAME:AEDT
DTSTART:20251004T160000
END:DAYLIGHT
BEGIN:STANDARD
TZOFFSETFROM:+1100
TZOFFSETTO:+1000
TZNAME:AEST
DTSTART:20260404T160000
END:STANDARD
BEGIN:DAYLIGHT
TZOFFSETFROM:+1000
TZOFFSETTO:+1100
TZNAME:AEDT
DTSTART:20261003T160000
END:DAYLIGHT
END:VTIMEZONE
BEGIN:VEVENT
DTSTART;TZID=Australia/Melbourne:20240527T133000
DTEND;TZID=Australia/Melbourne:20250331T150000
DTSTAMP:20260424T203238
CREATED:20240109T023009Z
LAST-MODIFIED:20250313T025648Z
UID:49814-1716816600-1743433200@ballaratmi.org.au
SUMMARY:The Reading Room
DESCRIPTION:Ballarat Heritage Festival – Tours of the Ballaarat Mechanics’ Institute 				\n				\n									Thursday 21 May to Saturday 23 May \, 3 tours:  11:30am – 12:30am – 1:30pm  (aporoximately 45 minute duration). 								\n				\n									Sunday 24 May \, 4 tours:  10.30am – 11:30am – 12:30am – 1:30pm  (aporoximately 45 minute duration). 								\n				\n							\n			\n		\n						\n					\n		\n					\n		\n				\n						\n					\n			\n						\n																														\n				\n							\n			\n		\n						\n					\n		\n					\n		\n				\n						\n					\n			\n						\n						\n					\n			\n							\n		\n				\n			\n						\n				\n					\n		\n			May 21\n\n	\n\n	  @  \n\n\n11:30 am\n\n	\n\n		\n	\n	  -  \n\n	May 24\n\n	\n\n	  @  \n\n\n12:15 pm\n\n\n\n	\n				\n				\n					\n		\n				\n			\n						\n				\n					\n$11 				\n				\n					\n		\n				\n			\n						\n									Meet in the Foyer  								\n					\n		\n				\n			\n							\n		\n					\n		\n				\n									Plus bkg. fee 								\n					\n		\n					\n		\n				\n						\n					\n			\n						\n																														\n					\n		\n					\n		\n				\n						\n					\n			\n						\n										\n						\n									Get Tickets\n					\n					\n								\n				\n							\n			\n		\n						\n					\n		\n					\n		\n				\n						\n					\n			\n						\n					Day Tours of the Ballaarat Mechanics' Institute 				\n				\n					The origin of Mechanics' Institutes  				\n					\n		\n					\n		\n				\n						\n					\n			\n						\n						\n					\n			\n						\n							\n			\n						\n		\n						\n				\n									Dr. George Birkbeck\, a professor of natural philosophy in Glasgow\, held the first lectures for the skilled workers of the day in 1799. He is acknowledged as the founder of the mechanics institute movement.  These lectures led to facilities dedicated to workers’ education – the Edinburgh School of Arts opened in 1821 and the London Mechanics’ Institute in 1823. Then\, in the 19th century Institutes spread rapidly throughout the British Empire and to other areas such as the United States. By 1851 over 700 Institutes were operating throughout Britain.The first Australian Institute was established in Hobart in 1827.Sydney followed in 1833 and Melbourne in 1839 (the Melbourne Mechanics’ Institute becamethe Athenaeum in 1873).								\n				\n					Under Minerva's Gaze | Tour information				\n				\n									The research material for your tour has been drawn from – Under Minerva’s Gaze: 150 years at the Ballaarat Mechanics’ Institute (edited by Jill Blee & Phil Roberts). This reference material is available for purchase at the Library or can be purchased via our Shop. 								\n				\n							\n			\n						\n		\n						\n					\n		\n					\n		\n				\n																\n															\n															\n				\n						\n					\n			\n							\n		\n					\n		\n				\n							\n						\n					\n		\n					\n		\n				\n						\n					\n			\n						\n						\n					\n			\n						\n									Cost $11 per person plus fees. 								\n					\n		\n				\n			\n						\n										\n						\n									Get Tickets\n					\n					\n								\n					\n		\n					\n		\n				\n							\n			\n		\n						\n				\n									Accessibility: Most of the tour experience is wheelchair accessible.  BMI Accessibility information can be found at https://ballaratmi.org.au/accessibility  								\n				\n							\n			\n		\n						\n				\n							\n			\n						\n		\n						\n					\n		\n					\n		\n				\n						\n					\n			\n						\n							\n			\n		\n						\n					\n		\n					\n		\n				\n						\n					\n			\n						\n																														\n					\n		\n				\n			\n						\n									This event takes place on Wadawurrung Country. Ballaarat Mechanics’ Institute acknowledges the Wadawurrung People of the Kulin Nation as the first inhabitants and Traditional Custodians of the lands where we work\, learn and create. Always Was\, Always Will Be\, Aboriginal Land.
URL:https://ballaratmi.org.au/event/the-reading-room-3/
LOCATION:Heritage Reading Room\, Sturt Street\, Ballarat Central\, VIC\, 3350\, Australia
CATEGORIES:The Reading Room
ATTACH;FMTTYPE=image/jpeg:https://ballaratmi.org.au/wp-content/uploads/2021/11/Reading_room_adjusted-e1704770529709.jpg
END:VEVENT
BEGIN:VEVENT
DTSTART;TZID=Australia/Melbourne:20240528T140000
DTEND;TZID=Australia/Melbourne:20241029T150000
DTSTAMP:20260424T203238
CREATED:20240229T025811Z
LAST-MODIFIED:20240229T032043Z
UID:51849-1716904800-1730214000@ballaratmi.org.au
SUMMARY:Day Tours of the Ballaarat Mechanics' Institute | Series
DESCRIPTION:Ballarat Heritage Festival – Tours of the Ballaarat Mechanics’ Institute 				\n				\n									Thursday 21 May to Saturday 23 May \, 3 tours:  11:30am – 12:30am – 1:30pm  (aporoximately 45 minute duration). 								\n				\n									Sunday 24 May \, 4 tours:  10.30am – 11:30am – 12:30am – 1:30pm  (aporoximately 45 minute duration). 								\n				\n							\n			\n		\n						\n					\n		\n					\n		\n				\n						\n					\n			\n						\n																														\n				\n							\n			\n		\n						\n					\n		\n					\n		\n				\n						\n					\n			\n						\n						\n					\n			\n							\n		\n				\n			\n						\n				\n					\n		\n			May 21\n\n	\n\n	  @  \n\n\n11:30 am\n\n	\n\n		\n	\n	  -  \n\n	May 24\n\n	\n\n	  @  \n\n\n12:15 pm\n\n\n\n	\n				\n				\n					\n		\n				\n			\n						\n				\n					\n$11 				\n				\n					\n		\n				\n			\n						\n									Meet in the Foyer  								\n					\n		\n				\n			\n							\n		\n					\n		\n				\n									Plus bkg. fee 								\n					\n		\n					\n		\n				\n						\n					\n			\n						\n																														\n					\n		\n					\n		\n				\n						\n					\n			\n						\n										\n						\n									Get Tickets\n					\n					\n								\n				\n							\n			\n		\n						\n					\n		\n					\n		\n				\n						\n					\n			\n						\n					Day Tours of the Ballaarat Mechanics' Institute 				\n				\n					The origin of Mechanics' Institutes  				\n					\n		\n					\n		\n				\n						\n					\n			\n						\n						\n					\n			\n						\n							\n			\n						\n		\n						\n				\n									Dr. George Birkbeck\, a professor of natural philosophy in Glasgow\, held the first lectures for the skilled workers of the day in 1799. He is acknowledged as the founder of the mechanics institute movement.  These lectures led to facilities dedicated to workers’ education – the Edinburgh School of Arts opened in 1821 and the London Mechanics’ Institute in 1823. Then\, in the 19th century Institutes spread rapidly throughout the British Empire and to other areas such as the United States. By 1851 over 700 Institutes were operating throughout Britain.The first Australian Institute was established in Hobart in 1827.Sydney followed in 1833 and Melbourne in 1839 (the Melbourne Mechanics’ Institute becamethe Athenaeum in 1873).								\n				\n					Under Minerva's Gaze | Tour information				\n				\n									The research material for your tour has been drawn from – Under Minerva’s Gaze: 150 years at the Ballaarat Mechanics’ Institute (edited by Jill Blee & Phil Roberts). This reference material is available for purchase at the Library or can be purchased via our Shop. 								\n				\n							\n			\n						\n		\n						\n					\n		\n					\n		\n				\n																\n															\n															\n				\n						\n					\n			\n							\n		\n					\n		\n				\n							\n						\n					\n		\n					\n		\n				\n						\n					\n			\n						\n						\n					\n			\n						\n									Cost $11 per person plus fees. 								\n					\n		\n				\n			\n						\n										\n						\n									Get Tickets\n					\n					\n								\n					\n		\n					\n		\n				\n							\n			\n		\n						\n				\n									Accessibility: Most of the tour experience is wheelchair accessible.  BMI Accessibility information can be found at https://ballaratmi.org.au/accessibility  								\n				\n							\n			\n		\n						\n				\n							\n			\n						\n		\n						\n					\n		\n					\n		\n				\n						\n					\n			\n						\n							\n			\n		\n						\n					\n		\n					\n		\n				\n						\n					\n			\n						\n																														\n					\n		\n				\n			\n						\n									This event takes place on Wadawurrung Country. Ballaarat Mechanics’ Institute acknowledges the Wadawurrung People of the Kulin Nation as the first inhabitants and Traditional Custodians of the lands where we work\, learn and create. Always Was\, Always Will Be\, Aboriginal Land.
URL:https://ballaratmi.org.au/event/day-tours-copy-2-2-copy/
LOCATION:Lending Library\, Sturt Street\, Ballarat Central\, Victoria\, 3350\, Australia
CATEGORIES:Tours
ATTACH;FMTTYPE=image/jpeg:https://ballaratmi.org.au/wp-content/uploads/2023/10/BMI-woodcut_bags-low-res-1kb-e1703024949185.jpg
END:VEVENT
BEGIN:VEVENT
DTSTART;TZID=Australia/Melbourne:20241003T173000
DTEND;TZID=Australia/Melbourne:20241031T223000
DTSTAMP:20260424T203238
CREATED:20240121T232505Z
LAST-MODIFIED:20240520T015100Z
UID:50315-1727976600-1730413800@ballaratmi.org.au
SUMMARY:Ballarat Chess Club
DESCRIPTION:Ballarat Heritage Festival – Tours of the Ballaarat Mechanics’ Institute 				\n				\n									Thursday 21 May to Saturday 23 May \, 3 tours:  11:30am – 12:30am – 1:30pm  (aporoximately 45 minute duration). 								\n				\n									Sunday 24 May \, 4 tours:  10.30am – 11:30am – 12:30am – 1:30pm  (aporoximately 45 minute duration). 								\n				\n							\n			\n		\n						\n					\n		\n					\n		\n				\n						\n					\n			\n						\n																														\n				\n							\n			\n		\n						\n					\n		\n					\n		\n				\n						\n					\n			\n						\n						\n					\n			\n							\n		\n				\n			\n						\n				\n					\n		\n			May 21\n\n	\n\n	  @  \n\n\n11:30 am\n\n	\n\n		\n	\n	  -  \n\n	May 24\n\n	\n\n	  @  \n\n\n12:15 pm\n\n\n\n	\n				\n				\n					\n		\n				\n			\n						\n				\n					\n$11 				\n				\n					\n		\n				\n			\n						\n									Meet in the Foyer  								\n					\n		\n				\n			\n							\n		\n					\n		\n				\n									Plus bkg. fee 								\n					\n		\n					\n		\n				\n						\n					\n			\n						\n																														\n					\n		\n					\n		\n				\n						\n					\n			\n						\n										\n						\n									Get Tickets\n					\n					\n								\n				\n							\n			\n		\n						\n					\n		\n					\n		\n				\n						\n					\n			\n						\n					Day Tours of the Ballaarat Mechanics' Institute 				\n				\n					The origin of Mechanics' Institutes  				\n					\n		\n					\n		\n				\n						\n					\n			\n						\n						\n					\n			\n						\n							\n			\n						\n		\n						\n				\n									Dr. George Birkbeck\, a professor of natural philosophy in Glasgow\, held the first lectures for the skilled workers of the day in 1799. He is acknowledged as the founder of the mechanics institute movement.  These lectures led to facilities dedicated to workers’ education – the Edinburgh School of Arts opened in 1821 and the London Mechanics’ Institute in 1823. Then\, in the 19th century Institutes spread rapidly throughout the British Empire and to other areas such as the United States. By 1851 over 700 Institutes were operating throughout Britain.The first Australian Institute was established in Hobart in 1827.Sydney followed in 1833 and Melbourne in 1839 (the Melbourne Mechanics’ Institute becamethe Athenaeum in 1873).								\n				\n					Under Minerva's Gaze | Tour information				\n				\n									The research material for your tour has been drawn from – Under Minerva’s Gaze: 150 years at the Ballaarat Mechanics’ Institute (edited by Jill Blee & Phil Roberts). This reference material is available for purchase at the Library or can be purchased via our Shop. 								\n				\n							\n			\n						\n		\n						\n					\n		\n					\n		\n				\n																\n															\n															\n				\n						\n					\n			\n							\n		\n					\n		\n				\n							\n						\n					\n		\n					\n		\n				\n						\n					\n			\n						\n						\n					\n			\n						\n									Cost $11 per person plus fees. 								\n					\n		\n				\n			\n						\n										\n						\n									Get Tickets\n					\n					\n								\n					\n		\n					\n		\n				\n							\n			\n		\n						\n				\n									Accessibility: Most of the tour experience is wheelchair accessible.  BMI Accessibility information can be found at https://ballaratmi.org.au/accessibility  								\n				\n							\n			\n		\n						\n				\n							\n			\n						\n		\n						\n					\n		\n					\n		\n				\n						\n					\n			\n						\n							\n			\n		\n						\n					\n		\n					\n		\n				\n						\n					\n			\n						\n																														\n					\n		\n				\n			\n						\n									This event takes place on Wadawurrung Country. Ballaarat Mechanics’ Institute acknowledges the Wadawurrung People of the Kulin Nation as the first inhabitants and Traditional Custodians of the lands where we work\, learn and create. Always Was\, Always Will Be\, Aboriginal Land.
URL:https://ballaratmi.org.au/event/ballarat-chess-club-oct-24/
LOCATION:BMI – Humffray Room\, 117-119 Sturt Street\, Ballarat Central\, VIC\, 3350\, Australia
CATEGORIES:Ballarat Chess Club
ATTACH;FMTTYPE=image/jpeg:https://ballaratmi.org.au/wp-content/uploads/2023/12/ballarat-chess-club-square-with-boarder.jpg
END:VEVENT
END:VCALENDAR